BEGIN:VCALENDAR
VERSION:2.0
PRODID:-//Senator Carolyn Comitta - ECPv6.15.20//NONSGML v1.0//EN
CALSCALE:GREGORIAN
METHOD:PUBLISH
X-WR-CALNAME:Senator Carolyn Comitta
X-ORIGINAL-URL:https://www.pasenatorcomitta.com
X-WR-CALDESC:Events for Senator Carolyn Comitta
REFRESH-INTERVAL;VALUE=DURATION:PT1H
X-Robots-Tag:noindex
X-PUBLISHED-TTL:PT1H
BEGIN:VTIMEZONE
TZID:America/New_York
BEGIN:DAYLIGHT
TZOFFSETFROM:-0500
TZOFFSETTO:-0400
TZNAME:EDT
DTSTART:20270314T070000
END:DAYLIGHT
BEGIN:STANDARD
TZOFFSETFROM:-0400
TZOFFSETTO:-0500
TZNAME:EST
DTSTART:20271107T060000
END:STANDARD
BEGIN:DAYLIGHT
TZOFFSETFROM:-0500
TZOFFSETTO:-0400
TZNAME:EDT
DTSTART:20280312T070000
END:DAYLIGHT
BEGIN:STANDARD
TZOFFSETFROM:-0400
TZOFFSETTO:-0500
TZNAME:EST
DTSTART:20281105T060000
END:STANDARD
BEGIN:DAYLIGHT
TZOFFSETFROM:-0500
TZOFFSETTO:-0400
TZNAME:EDT
DTSTART:20290311T070000
END:DAYLIGHT
BEGIN:STANDARD
TZOFFSETFROM:-0400
TZOFFSETTO:-0500
TZNAME:EST
DTSTART:20291104T060000
END:STANDARD
BEGIN:DAYLIGHT
TZOFFSETFROM:-0500
TZOFFSETTO:-0400
TZNAME:EDT
DTSTART:20300310T070000
END:DAYLIGHT
BEGIN:STANDARD
TZOFFSETFROM:-0400
TZOFFSETTO:-0500
TZNAME:EST
DTSTART:20301103T060000
END:STANDARD
BEGIN:DAYLIGHT
TZOFFSETFROM:-0500
TZOFFSETTO:-0400
TZNAME:EDT
DTSTART:20310309T070000
END:DAYLIGHT
BEGIN:STANDARD
TZOFFSETFROM:-0400
TZOFFSETTO:-0500
TZNAME:EST
DTSTART:20311102T060000
END:STANDARD
END:VTIMEZONE
BEGIN:VEVENT
DTSTART;TZID=America/New_York:20280511T100000
DTEND;TZID=America/New_York:20280511T120000
DTSTAMP:20260422T131127
CREATED:20250129T161618Z
LAST-MODIFIED:20250129T161619Z
UID:10000238-1841652000-1841659200@www.pasenatorcomitta.com
SUMMARY:West Chester Senior Center Outreach Hours
DESCRIPTION:Our staff regularly attends community events and visits locations in West Chester to offer in-person services. \nStaff members are available to assist residents with a number of issues\, including applying for the Property Tax and Rent Rebate Program\, SEPTA Key Senior ID Cards\, Birth Certificates\, Unclaimed Property\, and more. \nWalk-ins are welcome or appointments can be scheduled by contacting our office.
URL:https://www.pasenatorcomitta.com/event/west-chester-senior-center-outreach-hours-2/2028-05-11/
LOCATION:West Chester Area Senior Center\, 530 East Union St.\, West Chester\, PA\, 19382\, United States
ATTACH;FMTTYPE=image/png:https://www.pasenatorcomitta.com/wp-content/uploads/2023/08/5.png
END:VEVENT
BEGIN:VEVENT
DTSTART;TZID=America/New_York:20280608T100000
DTEND;TZID=America/New_York:20280608T120000
DTSTAMP:20260422T131127
CREATED:20250129T161618Z
LAST-MODIFIED:20250129T161619Z
UID:10000239-1844071200-1844078400@www.pasenatorcomitta.com
SUMMARY:West Chester Senior Center Outreach Hours
DESCRIPTION:Our staff regularly attends community events and visits locations in West Chester to offer in-person services. \nStaff members are available to assist residents with a number of issues\, including applying for the Property Tax and Rent Rebate Program\, SEPTA Key Senior ID Cards\, Birth Certificates\, Unclaimed Property\, and more. \nWalk-ins are welcome or appointments can be scheduled by contacting our office.
URL:https://www.pasenatorcomitta.com/event/west-chester-senior-center-outreach-hours-2/2028-06-08/
LOCATION:West Chester Area Senior Center\, 530 East Union St.\, West Chester\, PA\, 19382\, United States
ATTACH;FMTTYPE=image/png:https://www.pasenatorcomitta.com/wp-content/uploads/2023/08/5.png
END:VEVENT
BEGIN:VEVENT
DTSTART;TZID=America/New_York:20280713T100000
DTEND;TZID=America/New_York:20280713T120000
DTSTAMP:20260422T131127
CREATED:20250129T161618Z
LAST-MODIFIED:20250129T161619Z
UID:10000240-1847095200-1847102400@www.pasenatorcomitta.com
SUMMARY:West Chester Senior Center Outreach Hours
DESCRIPTION:Our staff regularly attends community events and visits locations in West Chester to offer in-person services. \nStaff members are available to assist residents with a number of issues\, including applying for the Property Tax and Rent Rebate Program\, SEPTA Key Senior ID Cards\, Birth Certificates\, Unclaimed Property\, and more. \nWalk-ins are welcome or appointments can be scheduled by contacting our office.
URL:https://www.pasenatorcomitta.com/event/west-chester-senior-center-outreach-hours-2/2028-07-13/
LOCATION:West Chester Area Senior Center\, 530 East Union St.\, West Chester\, PA\, 19382\, United States
ATTACH;FMTTYPE=image/png:https://www.pasenatorcomitta.com/wp-content/uploads/2023/08/5.png
END:VEVENT
BEGIN:VEVENT
DTSTART;TZID=America/New_York:20280810T100000
DTEND;TZID=America/New_York:20280810T120000
DTSTAMP:20260422T131127
CREATED:20250129T161618Z
LAST-MODIFIED:20250129T161619Z
UID:10000241-1849514400-1849521600@www.pasenatorcomitta.com
SUMMARY:West Chester Senior Center Outreach Hours
DESCRIPTION:Our staff regularly attends community events and visits locations in West Chester to offer in-person services. \nStaff members are available to assist residents with a number of issues\, including applying for the Property Tax and Rent Rebate Program\, SEPTA Key Senior ID Cards\, Birth Certificates\, Unclaimed Property\, and more. \nWalk-ins are welcome or appointments can be scheduled by contacting our office.
URL:https://www.pasenatorcomitta.com/event/west-chester-senior-center-outreach-hours-2/2028-08-10/
LOCATION:West Chester Area Senior Center\, 530 East Union St.\, West Chester\, PA\, 19382\, United States
ATTACH;FMTTYPE=image/png:https://www.pasenatorcomitta.com/wp-content/uploads/2023/08/5.png
END:VEVENT
BEGIN:VEVENT
DTSTART;TZID=America/New_York:20280914T100000
DTEND;TZID=America/New_York:20280914T120000
DTSTAMP:20260422T131127
CREATED:20250129T161618Z
LAST-MODIFIED:20250129T161619Z
UID:10000611-1852538400-1852545600@www.pasenatorcomitta.com
SUMMARY:West Chester Senior Center Outreach Hours
DESCRIPTION:Our staff regularly attends community events and visits locations in West Chester to offer in-person services. \nStaff members are available to assist residents with a number of issues\, including applying for the Property Tax and Rent Rebate Program\, SEPTA Key Senior ID Cards\, Birth Certificates\, Unclaimed Property\, and more. \nWalk-ins are welcome or appointments can be scheduled by contacting our office.
URL:https://www.pasenatorcomitta.com/event/west-chester-senior-center-outreach-hours-2/2028-09-14/
LOCATION:West Chester Area Senior Center\, 530 East Union St.\, West Chester\, PA\, 19382\, United States
ATTACH;FMTTYPE=image/png:https://www.pasenatorcomitta.com/wp-content/uploads/2023/08/5.png
END:VEVENT
BEGIN:VEVENT
DTSTART;TZID=America/New_York:20281012T100000
DTEND;TZID=America/New_York:20281012T120000
DTSTAMP:20260422T131127
CREATED:20250129T161618Z
LAST-MODIFIED:20250129T161619Z
UID:10000612-1854957600-1854964800@www.pasenatorcomitta.com
SUMMARY:West Chester Senior Center Outreach Hours
DESCRIPTION:Our staff regularly attends community events and visits locations in West Chester to offer in-person services. \nStaff members are available to assist residents with a number of issues\, including applying for the Property Tax and Rent Rebate Program\, SEPTA Key Senior ID Cards\, Birth Certificates\, Unclaimed Property\, and more. \nWalk-ins are welcome or appointments can be scheduled by contacting our office.
URL:https://www.pasenatorcomitta.com/event/west-chester-senior-center-outreach-hours-2/2028-10-12/
LOCATION:West Chester Area Senior Center\, 530 East Union St.\, West Chester\, PA\, 19382\, United States
ATTACH;FMTTYPE=image/png:https://www.pasenatorcomitta.com/wp-content/uploads/2023/08/5.png
END:VEVENT
BEGIN:VEVENT
DTSTART;TZID=America/New_York:20281109T100000
DTEND;TZID=America/New_York:20281109T120000
DTSTAMP:20260422T131127
CREATED:20250129T161618Z
LAST-MODIFIED:20250129T161619Z
UID:10000613-1857376800-1857384000@www.pasenatorcomitta.com
SUMMARY:West Chester Senior Center Outreach Hours
DESCRIPTION:Our staff regularly attends community events and visits locations in West Chester to offer in-person services. \nStaff members are available to assist residents with a number of issues\, including applying for the Property Tax and Rent Rebate Program\, SEPTA Key Senior ID Cards\, Birth Certificates\, Unclaimed Property\, and more. \nWalk-ins are welcome or appointments can be scheduled by contacting our office.
URL:https://www.pasenatorcomitta.com/event/west-chester-senior-center-outreach-hours-2/2028-11-09/
LOCATION:West Chester Area Senior Center\, 530 East Union St.\, West Chester\, PA\, 19382\, United States
ATTACH;FMTTYPE=image/png:https://www.pasenatorcomitta.com/wp-content/uploads/2023/08/5.png
END:VEVENT
BEGIN:VEVENT
DTSTART;TZID=America/New_York:20281214T100000
DTEND;TZID=America/New_York:20281214T120000
DTSTAMP:20260422T131127
CREATED:20250129T161618Z
LAST-MODIFIED:20250129T161619Z
UID:10000614-1860400800-1860408000@www.pasenatorcomitta.com
SUMMARY:West Chester Senior Center Outreach Hours
DESCRIPTION:Our staff regularly attends community events and visits locations in West Chester to offer in-person services. \nStaff members are available to assist residents with a number of issues\, including applying for the Property Tax and Rent Rebate Program\, SEPTA Key Senior ID Cards\, Birth Certificates\, Unclaimed Property\, and more. \nWalk-ins are welcome or appointments can be scheduled by contacting our office.
URL:https://www.pasenatorcomitta.com/event/west-chester-senior-center-outreach-hours-2/2028-12-14/
LOCATION:West Chester Area Senior Center\, 530 East Union St.\, West Chester\, PA\, 19382\, United States
ATTACH;FMTTYPE=image/png:https://www.pasenatorcomitta.com/wp-content/uploads/2023/08/5.png
END:VEVENT
BEGIN:VEVENT
DTSTART;TZID=America/New_York:20290111T100000
DTEND;TZID=America/New_York:20290111T120000
DTSTAMP:20260422T131127
CREATED:20250129T161618Z
LAST-MODIFIED:20250129T161619Z
UID:10000615-1862820000-1862827200@www.pasenatorcomitta.com
SUMMARY:West Chester Senior Center Outreach Hours
DESCRIPTION:Our staff regularly attends community events and visits locations in West Chester to offer in-person services. \nStaff members are available to assist residents with a number of issues\, including applying for the Property Tax and Rent Rebate Program\, SEPTA Key Senior ID Cards\, Birth Certificates\, Unclaimed Property\, and more. \nWalk-ins are welcome or appointments can be scheduled by contacting our office.
URL:https://www.pasenatorcomitta.com/event/west-chester-senior-center-outreach-hours-2/2029-01-11/
LOCATION:West Chester Area Senior Center\, 530 East Union St.\, West Chester\, PA\, 19382\, United States
ATTACH;FMTTYPE=image/png:https://www.pasenatorcomitta.com/wp-content/uploads/2023/08/5.png
END:VEVENT
BEGIN:VEVENT
DTSTART;TZID=America/New_York:20290208T100000
DTEND;TZID=America/New_York:20290208T120000
DTSTAMP:20260422T131127
CREATED:20250129T161618Z
LAST-MODIFIED:20250129T161619Z
UID:10000616-1865239200-1865246400@www.pasenatorcomitta.com
SUMMARY:West Chester Senior Center Outreach Hours
DESCRIPTION:Our staff regularly attends community events and visits locations in West Chester to offer in-person services. \nStaff members are available to assist residents with a number of issues\, including applying for the Property Tax and Rent Rebate Program\, SEPTA Key Senior ID Cards\, Birth Certificates\, Unclaimed Property\, and more. \nWalk-ins are welcome or appointments can be scheduled by contacting our office.
URL:https://www.pasenatorcomitta.com/event/west-chester-senior-center-outreach-hours-2/2029-02-08/
LOCATION:West Chester Area Senior Center\, 530 East Union St.\, West Chester\, PA\, 19382\, United States
ATTACH;FMTTYPE=image/png:https://www.pasenatorcomitta.com/wp-content/uploads/2023/08/5.png
END:VEVENT
BEGIN:VEVENT
DTSTART;TZID=America/New_York:20290308T100000
DTEND;TZID=America/New_York:20290308T120000
DTSTAMP:20260422T131127
CREATED:20250129T161618Z
LAST-MODIFIED:20250129T161619Z
UID:10000617-1867658400-1867665600@www.pasenatorcomitta.com
SUMMARY:West Chester Senior Center Outreach Hours
DESCRIPTION:Our staff regularly attends community events and visits locations in West Chester to offer in-person services. \nStaff members are available to assist residents with a number of issues\, including applying for the Property Tax and Rent Rebate Program\, SEPTA Key Senior ID Cards\, Birth Certificates\, Unclaimed Property\, and more. \nWalk-ins are welcome or appointments can be scheduled by contacting our office.
URL:https://www.pasenatorcomitta.com/event/west-chester-senior-center-outreach-hours-2/2029-03-08/
LOCATION:West Chester Area Senior Center\, 530 East Union St.\, West Chester\, PA\, 19382\, United States
ATTACH;FMTTYPE=image/png:https://www.pasenatorcomitta.com/wp-content/uploads/2023/08/5.png
END:VEVENT
BEGIN:VEVENT
DTSTART;TZID=America/New_York:20290412T100000
DTEND;TZID=America/New_York:20290412T120000
DTSTAMP:20260422T131127
CREATED:20250129T161618Z
LAST-MODIFIED:20250129T161619Z
UID:10000618-1870682400-1870689600@www.pasenatorcomitta.com
SUMMARY:West Chester Senior Center Outreach Hours
DESCRIPTION:Our staff regularly attends community events and visits locations in West Chester to offer in-person services. \nStaff members are available to assist residents with a number of issues\, including applying for the Property Tax and Rent Rebate Program\, SEPTA Key Senior ID Cards\, Birth Certificates\, Unclaimed Property\, and more. \nWalk-ins are welcome or appointments can be scheduled by contacting our office.
URL:https://www.pasenatorcomitta.com/event/west-chester-senior-center-outreach-hours-2/2029-04-12/
LOCATION:West Chester Area Senior Center\, 530 East Union St.\, West Chester\, PA\, 19382\, United States
ATTACH;FMTTYPE=image/png:https://www.pasenatorcomitta.com/wp-content/uploads/2023/08/5.png
END:VEVENT
BEGIN:VEVENT
DTSTART;TZID=America/New_York:20290510T100000
DTEND;TZID=America/New_York:20290510T120000
DTSTAMP:20260422T131127
CREATED:20250129T161618Z
LAST-MODIFIED:20250129T161619Z
UID:10000619-1873101600-1873108800@www.pasenatorcomitta.com
SUMMARY:West Chester Senior Center Outreach Hours
DESCRIPTION:Our staff regularly attends community events and visits locations in West Chester to offer in-person services. \nStaff members are available to assist residents with a number of issues\, including applying for the Property Tax and Rent Rebate Program\, SEPTA Key Senior ID Cards\, Birth Certificates\, Unclaimed Property\, and more. \nWalk-ins are welcome or appointments can be scheduled by contacting our office.
URL:https://www.pasenatorcomitta.com/event/west-chester-senior-center-outreach-hours-2/2029-05-10/
LOCATION:West Chester Area Senior Center\, 530 East Union St.\, West Chester\, PA\, 19382\, United States
ATTACH;FMTTYPE=image/png:https://www.pasenatorcomitta.com/wp-content/uploads/2023/08/5.png
END:VEVENT
BEGIN:VEVENT
DTSTART;TZID=America/New_York:20290614T100000
DTEND;TZID=America/New_York:20290614T120000
DTSTAMP:20260422T131127
CREATED:20250129T161618Z
LAST-MODIFIED:20250129T161619Z
UID:10000620-1876125600-1876132800@www.pasenatorcomitta.com
SUMMARY:West Chester Senior Center Outreach Hours
DESCRIPTION:Our staff regularly attends community events and visits locations in West Chester to offer in-person services. \nStaff members are available to assist residents with a number of issues\, including applying for the Property Tax and Rent Rebate Program\, SEPTA Key Senior ID Cards\, Birth Certificates\, Unclaimed Property\, and more. \nWalk-ins are welcome or appointments can be scheduled by contacting our office.
URL:https://www.pasenatorcomitta.com/event/west-chester-senior-center-outreach-hours-2/2029-06-14/
LOCATION:West Chester Area Senior Center\, 530 East Union St.\, West Chester\, PA\, 19382\, United States
ATTACH;FMTTYPE=image/png:https://www.pasenatorcomitta.com/wp-content/uploads/2023/08/5.png
END:VEVENT
BEGIN:VEVENT
DTSTART;TZID=America/New_York:20290712T100000
DTEND;TZID=America/New_York:20290712T120000
DTSTAMP:20260422T131127
CREATED:20250129T161618Z
LAST-MODIFIED:20250129T161619Z
UID:10000621-1878544800-1878552000@www.pasenatorcomitta.com
SUMMARY:West Chester Senior Center Outreach Hours
DESCRIPTION:Our staff regularly attends community events and visits locations in West Chester to offer in-person services. \nStaff members are available to assist residents with a number of issues\, including applying for the Property Tax and Rent Rebate Program\, SEPTA Key Senior ID Cards\, Birth Certificates\, Unclaimed Property\, and more. \nWalk-ins are welcome or appointments can be scheduled by contacting our office.
URL:https://www.pasenatorcomitta.com/event/west-chester-senior-center-outreach-hours-2/2029-07-12/
LOCATION:West Chester Area Senior Center\, 530 East Union St.\, West Chester\, PA\, 19382\, United States
ATTACH;FMTTYPE=image/png:https://www.pasenatorcomitta.com/wp-content/uploads/2023/08/5.png
END:VEVENT
BEGIN:VEVENT
DTSTART;TZID=America/New_York:20290809T100000
DTEND;TZID=America/New_York:20290809T120000
DTSTAMP:20260422T131127
CREATED:20250129T161618Z
LAST-MODIFIED:20250129T161619Z
UID:10000622-1880964000-1880971200@www.pasenatorcomitta.com
SUMMARY:West Chester Senior Center Outreach Hours
DESCRIPTION:Our staff regularly attends community events and visits locations in West Chester to offer in-person services. \nStaff members are available to assist residents with a number of issues\, including applying for the Property Tax and Rent Rebate Program\, SEPTA Key Senior ID Cards\, Birth Certificates\, Unclaimed Property\, and more. \nWalk-ins are welcome or appointments can be scheduled by contacting our office.
URL:https://www.pasenatorcomitta.com/event/west-chester-senior-center-outreach-hours-2/2029-08-09/
LOCATION:West Chester Area Senior Center\, 530 East Union St.\, West Chester\, PA\, 19382\, United States
ATTACH;FMTTYPE=image/png:https://www.pasenatorcomitta.com/wp-content/uploads/2023/08/5.png
END:VEVENT
BEGIN:VEVENT
DTSTART;TZID=America/New_York:20290913T100000
DTEND;TZID=America/New_York:20290913T120000
DTSTAMP:20260422T131127
CREATED:20250129T161618Z
LAST-MODIFIED:20250129T161619Z
UID:10000623-1883988000-1883995200@www.pasenatorcomitta.com
SUMMARY:West Chester Senior Center Outreach Hours
DESCRIPTION:Our staff regularly attends community events and visits locations in West Chester to offer in-person services. \nStaff members are available to assist residents with a number of issues\, including applying for the Property Tax and Rent Rebate Program\, SEPTA Key Senior ID Cards\, Birth Certificates\, Unclaimed Property\, and more. \nWalk-ins are welcome or appointments can be scheduled by contacting our office.
URL:https://www.pasenatorcomitta.com/event/west-chester-senior-center-outreach-hours-2/2029-09-13/
LOCATION:West Chester Area Senior Center\, 530 East Union St.\, West Chester\, PA\, 19382\, United States
ATTACH;FMTTYPE=image/png:https://www.pasenatorcomitta.com/wp-content/uploads/2023/08/5.png
END:VEVENT
BEGIN:VEVENT
DTSTART;TZID=America/New_York:20291011T100000
DTEND;TZID=America/New_York:20291011T120000
DTSTAMP:20260422T131127
CREATED:20250129T161618Z
LAST-MODIFIED:20250129T161619Z
UID:10000624-1886407200-1886414400@www.pasenatorcomitta.com
SUMMARY:West Chester Senior Center Outreach Hours
DESCRIPTION:Our staff regularly attends community events and visits locations in West Chester to offer in-person services. \nStaff members are available to assist residents with a number of issues\, including applying for the Property Tax and Rent Rebate Program\, SEPTA Key Senior ID Cards\, Birth Certificates\, Unclaimed Property\, and more. \nWalk-ins are welcome or appointments can be scheduled by contacting our office.
URL:https://www.pasenatorcomitta.com/event/west-chester-senior-center-outreach-hours-2/2029-10-11/
LOCATION:West Chester Area Senior Center\, 530 East Union St.\, West Chester\, PA\, 19382\, United States
ATTACH;FMTTYPE=image/png:https://www.pasenatorcomitta.com/wp-content/uploads/2023/08/5.png
END:VEVENT
BEGIN:VEVENT
DTSTART;TZID=America/New_York:20291108T100000
DTEND;TZID=America/New_York:20291108T120000
DTSTAMP:20260422T131127
CREATED:20250129T161618Z
LAST-MODIFIED:20250129T161619Z
UID:10000625-1888826400-1888833600@www.pasenatorcomitta.com
SUMMARY:West Chester Senior Center Outreach Hours
DESCRIPTION:Our staff regularly attends community events and visits locations in West Chester to offer in-person services. \nStaff members are available to assist residents with a number of issues\, including applying for the Property Tax and Rent Rebate Program\, SEPTA Key Senior ID Cards\, Birth Certificates\, Unclaimed Property\, and more. \nWalk-ins are welcome or appointments can be scheduled by contacting our office.
URL:https://www.pasenatorcomitta.com/event/west-chester-senior-center-outreach-hours-2/2029-11-08/
LOCATION:West Chester Area Senior Center\, 530 East Union St.\, West Chester\, PA\, 19382\, United States
ATTACH;FMTTYPE=image/png:https://www.pasenatorcomitta.com/wp-content/uploads/2023/08/5.png
END:VEVENT
BEGIN:VEVENT
DTSTART;TZID=America/New_York:20291213T100000
DTEND;TZID=America/New_York:20291213T120000
DTSTAMP:20260422T131127
CREATED:20250129T161618Z
LAST-MODIFIED:20250129T161619Z
UID:10000626-1891850400-1891857600@www.pasenatorcomitta.com
SUMMARY:West Chester Senior Center Outreach Hours
DESCRIPTION:Our staff regularly attends community events and visits locations in West Chester to offer in-person services. \nStaff members are available to assist residents with a number of issues\, including applying for the Property Tax and Rent Rebate Program\, SEPTA Key Senior ID Cards\, Birth Certificates\, Unclaimed Property\, and more. \nWalk-ins are welcome or appointments can be scheduled by contacting our office.
URL:https://www.pasenatorcomitta.com/event/west-chester-senior-center-outreach-hours-2/2029-12-13/
LOCATION:West Chester Area Senior Center\, 530 East Union St.\, West Chester\, PA\, 19382\, United States
ATTACH;FMTTYPE=image/png:https://www.pasenatorcomitta.com/wp-content/uploads/2023/08/5.png
END:VEVENT
BEGIN:VEVENT
DTSTART;TZID=America/New_York:20300110T100000
DTEND;TZID=America/New_York:20300110T120000
DTSTAMP:20260422T131127
CREATED:20250129T161618Z
LAST-MODIFIED:20250129T161619Z
UID:10000627-1894269600-1894276800@www.pasenatorcomitta.com
SUMMARY:West Chester Senior Center Outreach Hours
DESCRIPTION:Our staff regularly attends community events and visits locations in West Chester to offer in-person services. \nStaff members are available to assist residents with a number of issues\, including applying for the Property Tax and Rent Rebate Program\, SEPTA Key Senior ID Cards\, Birth Certificates\, Unclaimed Property\, and more. \nWalk-ins are welcome or appointments can be scheduled by contacting our office.
URL:https://www.pasenatorcomitta.com/event/west-chester-senior-center-outreach-hours-2/2030-01-10/
LOCATION:West Chester Area Senior Center\, 530 East Union St.\, West Chester\, PA\, 19382\, United States
ATTACH;FMTTYPE=image/png:https://www.pasenatorcomitta.com/wp-content/uploads/2023/08/5.png
END:VEVENT
END:VCALENDAR