BEGIN:VCALENDAR
VERSION:2.0
PRODID:-//Senator Carolyn Comitta - ECPv6.15.20//NONSGML v1.0//EN
CALSCALE:GREGORIAN
METHOD:PUBLISH
X-WR-CALNAME:Senator Carolyn Comitta
X-ORIGINAL-URL:https://www.pasenatorcomitta.com
X-WR-CALDESC:Events for Senator Carolyn Comitta
REFRESH-INTERVAL;VALUE=DURATION:PT1H
X-Robots-Tag:noindex
X-PUBLISHED-TTL:PT1H
BEGIN:VTIMEZONE
TZID:America/New_York
BEGIN:DAYLIGHT
TZOFFSETFROM:-0500
TZOFFSETTO:-0400
TZNAME:EDT
DTSTART:20240310T070000
END:DAYLIGHT
BEGIN:STANDARD
TZOFFSETFROM:-0400
TZOFFSETTO:-0500
TZNAME:EST
DTSTART:20241103T060000
END:STANDARD
BEGIN:DAYLIGHT
TZOFFSETFROM:-0500
TZOFFSETTO:-0400
TZNAME:EDT
DTSTART:20250309T070000
END:DAYLIGHT
BEGIN:STANDARD
TZOFFSETFROM:-0400
TZOFFSETTO:-0500
TZNAME:EST
DTSTART:20251102T060000
END:STANDARD
BEGIN:DAYLIGHT
TZOFFSETFROM:-0500
TZOFFSETTO:-0400
TZNAME:EDT
DTSTART:20260308T070000
END:DAYLIGHT
BEGIN:STANDARD
TZOFFSETFROM:-0400
TZOFFSETTO:-0500
TZNAME:EST
DTSTART:20261101T060000
END:STANDARD
END:VTIMEZONE
BEGIN:VEVENT
DTSTART;TZID=America/New_York:20251202T100000
DTEND;TZID=America/New_York:20251202T120000
DTSTAMP:20260423T061756
CREATED:20250129T161229Z
LAST-MODIFIED:20251030T145706Z
UID:10000705-1764669600-1764676800@www.pasenatorcomitta.com
SUMMARY:Malvern Public Library Outreach Hours
DESCRIPTION:Our staff regularly attends community events and visits locations in Malvern to offer in-person services. \nStaff members are available to assist residents with a number of issues\, including applying for the Property Tax and Rent Rebate Program\, SEPTA Key Senior ID Cards\, Birth Certificates\, Unclaimed Property\, and more. \nWalk-ins are welcome or appointments can be scheduled by contacting our office.
URL:https://www.pasenatorcomitta.com/event/malvern-public-library-outreach-hours/2025-12-02/
LOCATION:Pennsylvania
ATTACH;FMTTYPE=image/png:https://www.pasenatorcomitta.com/wp-content/uploads/2025/01/1.png
END:VEVENT
BEGIN:VEVENT
DTSTART;TZID=America/New_York:20251203T100000
DTEND;TZID=America/New_York:20251203T120000
DTSTAMP:20260423T061756
CREATED:20250129T162108Z
LAST-MODIFIED:20250129T162109Z
UID:10000028-1764756000-1764763200@www.pasenatorcomitta.com
SUMMARY:Coatesville Public Library Outreach Hours
DESCRIPTION:Our staff regularly attends community events and visits locations in Coatesville to offer in-person services. \nStaff members are available to assist residents with a number of issues\, including applying for the Property Tax and Rent Rebate Program\, SEPTA Key Senior ID Cards\, Birth Certificates\, Unclaimed Property\, and more. \nWalk-ins are welcome or appointments can be scheduled by contacting our office.
URL:https://www.pasenatorcomitta.com/event/coatesville-public-library-outreach-hours-2/2025-12-03/
LOCATION:Coatesville Public Library\, 501 E. Lincoln Highway\, Coatesville\, PA\, 19320\, United States
ATTACH;FMTTYPE=image/png:https://www.pasenatorcomitta.com/wp-content/uploads/2023/08/2.png
END:VEVENT
BEGIN:VEVENT
DTSTART;TZID=America/New_York:20251209T100000
DTEND;TZID=America/New_York:20251209T120000
DTSTAMP:20260423T061756
CREATED:20250129T161942Z
LAST-MODIFIED:20250129T161943Z
UID:10000148-1765274400-1765281600@www.pasenatorcomitta.com
SUMMARY:BVAA Coatesville Outreach Hours
DESCRIPTION:Our staff regularly attends community events and visits locations in Coatesville to offer in-person services. \nStaff members are available to assist residents with a number of issues\, including applying for the Property Tax and Rent Rebate Program\, SEPTA Key Senior ID Cards\, Birth Certificates\, Unclaimed Property\, and more. \nWalk-ins are welcome or appointments can be scheduled by contacting our office.
URL:https://www.pasenatorcomitta.com/event/bvaa-coatesville-outreach-hours-2/2025-12-09/
LOCATION:Brandywine Valley Active Aging – Coatesville\, 250 Dr. Martin Luther King Jr. Blvd\, Coatesville\, PA\, 19320\, United States
ATTACH;FMTTYPE=image/png:https://www.pasenatorcomitta.com/wp-content/uploads/2023/08/3.png
END:VEVENT
BEGIN:VEVENT
DTSTART;TZID=America/New_York:20251210T140000
DTEND;TZID=America/New_York:20251210T160000
DTSTAMP:20260423T061756
CREATED:20250129T161819Z
LAST-MODIFIED:20250129T161820Z
UID:10000329-1765375200-1765382400@www.pasenatorcomitta.com
SUMMARY:Easttown Library Outreach Hours
DESCRIPTION:Our staff regularly attends community events and visits locations in Easttown to offer in-person services. \nStaff members are available to assist residents with a number of issues\, including applying for the Property Tax and Rent Rebate Program\, SEPTA Key Senior ID Cards\, Birth Certificates\, Unclaimed Property\, and more. \nWalk-ins are welcome or appointments can be scheduled by contacting our office.
URL:https://www.pasenatorcomitta.com/event/easttown-library-outreach-hours-2/2025-12-10/
LOCATION:Easttown Library\, 720 First Ave\, Berwyn\, 19312\, United States
ATTACH;FMTTYPE=image/png:https://www.pasenatorcomitta.com/wp-content/uploads/2023/08/4.png
END:VEVENT
BEGIN:VEVENT
DTSTART;TZID=America/New_York:20251211T100000
DTEND;TZID=America/New_York:20251211T120000
DTSTAMP:20260423T061757
CREATED:20250129T161618Z
LAST-MODIFIED:20250129T161619Z
UID:10000209-1765447200-1765454400@www.pasenatorcomitta.com
SUMMARY:West Chester Senior Center Outreach Hours
DESCRIPTION:Our staff regularly attends community events and visits locations in West Chester to offer in-person services. \nStaff members are available to assist residents with a number of issues\, including applying for the Property Tax and Rent Rebate Program\, SEPTA Key Senior ID Cards\, Birth Certificates\, Unclaimed Property\, and more. \nWalk-ins are welcome or appointments can be scheduled by contacting our office.
URL:https://www.pasenatorcomitta.com/event/west-chester-senior-center-outreach-hours-2/2025-12-11/
LOCATION:West Chester Area Senior Center\, 530 East Union St.\, West Chester\, PA\, 19382\, United States
ATTACH;FMTTYPE=image/png:https://www.pasenatorcomitta.com/wp-content/uploads/2023/08/5.png
END:VEVENT
BEGIN:VEVENT
DTSTART;TZID=America/New_York:20251216T110000
DTEND;TZID=America/New_York:20251216T130000
DTSTAMP:20260423T061757
CREATED:20251118T170133Z
LAST-MODIFIED:20251118T170135Z
UID:10000269-1765882800-1765890000@www.pasenatorcomitta.com
SUMMARY:BVAA Downingtown Outreach Hours
DESCRIPTION:Our staff regularly attends community events and visits locations in Downingtown to offer in-person services. \nStaff members are available to assist residents with a number of issues\, including applying for the Property Tax and Rent Rebate Program\, SEPTA Key Senior ID Cards\, Birth Certificates\, Unclaimed Property\, and more. \nWalk-ins are welcome or appointments can be scheduled by contacting our office.
URL:https://www.pasenatorcomitta.com/event/bvaa-downingtown-outreach-hours-2-2/2025-12-16/
LOCATION:Brandywine Valley Active Aging – Downingtown\, 55 Country Club Road\, Suite 200\, Downingtown\, PA\, 19335\, United States
ATTACH;FMTTYPE=image/png:https://www.pasenatorcomitta.com/wp-content/uploads/2025/01/dtown-senior.png
END:VEVENT
BEGIN:VEVENT
DTSTART;TZID=America/New_York:20251217T100000
DTEND;TZID=America/New_York:20251217T120000
DTSTAMP:20260423T061757
CREATED:20250129T160714Z
LAST-MODIFIED:20250129T160720Z
UID:10000389-1765965600-1765972800@www.pasenatorcomitta.com
SUMMARY:Oxford Senior Center Outreach Hours
DESCRIPTION:Our staff regularly attends community events and visits locations in Oxford to offer in-person services. \nStaff members are available to assist residents with a number of issues\, including applying for the Property Tax and Rent Rebate Program\, SEPTA Key Senior ID Cards\, Birth Certificates\, Unclaimed Property\, and more. \nWalk-ins are welcome or appointments can be scheduled by contacting our office.
URL:https://www.pasenatorcomitta.com/event/oxford-senior-center-outreach-hours-2/2025-12-17/
LOCATION:Oxford Area Senior Center\, 12 E. Locust Street\, Oxford\, PA\, 19363\, United States
ATTACH;FMTTYPE=image/png:https://www.pasenatorcomitta.com/wp-content/uploads/2023/08/6.png
END:VEVENT
BEGIN:VEVENT
DTSTART;TZID=America/New_York:20251224T100000
DTEND;TZID=America/New_York:20251224T120000
DTSTAMP:20260423T061757
CREATED:20251210T165016Z
LAST-MODIFIED:20251210T165017Z
UID:10000484-1766570400-1766577600@www.pasenatorcomitta.com
SUMMARY:Oxford Public Library Outreach Hours
DESCRIPTION:Our staff regularly attends community events and visits locations in Oxford to offer in-person services. \nStaff members are available to assist residents with a number of issues\, including applying for the Property Tax and Rent Rebate Program\, SEPTA Key Senior ID Cards\, Birth Certificates\, Unclaimed Property\, and more. \nWalk-ins are welcome or appointments can be scheduled by contacting our office.
URL:https://www.pasenatorcomitta.com/event/oxford-public-library-outreach-house-2/2025-12-24/
LOCATION:Pennsylvania
ATTACH;FMTTYPE=image/png:https://www.pasenatorcomitta.com/wp-content/uploads/2025/01/8.png
END:VEVENT
END:VCALENDAR